BEGIN:VCALENDAR
VERSION:2.0
PRODID:Imitheme.com 
BEGIN:VEVENT
UID:20260423T1904171213404897
DTSTAMP;TZID=UTC:20260423T190417
DTSTART;TZID=UTC:20260423T190417
DTEND;TZID=UTC:20260423T190417
SUMMARY:[REMOVED] Hats\, Gloves\, and Mittens Run
LOCATION:
DESCRIPTION:<strong>Registration</strong> No registration required. <strong>Race Information</strong> This free race is held to support the MRR community. All runners are welcome to meet at Caribou Coffee (2939 Hamilton Blvd) for a group run your chosen distance followed by coffee at Caribou. While the run participation is free - we welcome donations in the form of hats\, gloves\, scarves\, socks or anything other winter gear. Donations will be sent to local shelters in Sioux City. In late 2018 - the donations from the Hats\, Gloves\, and Mittens Run were donated to Hunt School. 25 stocking caps\, 16 pairs of gloves\, 24 pairs of socks\, 4 scarves\, and a few hat and glove sets were donated ahead of the winter storms. Hunt School was the grateful recipient and all were donated before our heavy snow/freezing spell early 2019. <strong>Questions? <a href=\"https\://www.missouririverrunners.com/contact/\" rel=\"noopener\">Send a message</a> to the race director!</strong> 
END:VEVENT
END:VCALENDAR
