BEGIN:VCALENDAR
VERSION:2.0
PRODID:Imitheme.com 
BEGIN:VEVENT
UID:20260423T1737371227692905
DTSTAMP;TZID=UTC:20260423T173737
DTSTART;TZID=UTC:20260423T173737
DTEND;TZID=UTC:20260423T173737
SUMMARY:Annual Meeting
LOCATION:
DESCRIPTION:The 2020 Annual Meeting is being post-pone until a later date due to COVID-19. <!-- MAKE UP DATE for our Jan 18 Annual Party THIS SATURDAY (LEAP DAY!) February 29\, 2020 Come Join Us for a Casual and FUN Time! At Peak Performance (4501 S. Hills Drive\, Suite 19 Sioux City) Only $5 (RSVP to Patty by midnight this Friday) JOIN MRR OR RENEW YOUR DUES THE NIGHT OF THE PARTY! Membership is only $15 for your entire household for the calendar year! Social Time\: 6\:00 (Tea\, Water\, Pop & some other beverages will be provided or you can BYOB) Dinner\: 6\:30 Speaker at 7\:00\: Betsy Flowers (Track Coach for Liberty Track Team) Catering by Aggies\: Smoked beef brisket and pork loin sliders ALL AGES WELCOME.we will even have a kids corner! Contact Patty at 712.204.3325 or Considine@cableone.net to RESERVE YOUR SPOT! -->
END:VEVENT
END:VCALENDAR
