BEGIN:VCALENDAR
VERSION:2.0
PRODID:Imitheme.com 
BEGIN:VEVENT
UID:20260423T1904222098104710
DTSTAMP;TZID=UTC:20260423T190422
DTSTART;TZID=UTC:20260423T190422
DTEND;TZID=UTC:20260423T190422
SUMMARY:[OLD] February FREEzer - Fun Run/Walk
LOCATION:
DESCRIPTION:<strong>Registration</strong> Free for Missouri River Runner members. Please register as a Missouri River Runner prior to participation. <strong>Race Information</strong> The February FREEzer is an informal run/walk that allows you to choose your own pace and distance. The group run will start and end at Jackson Street Brewing (607 5th Street) following the Perry Creek Trail from downtown Sioux City. This is a potluck event. Please bring something to share. <strong>Questions? <a href=\"https\://www.missouririverrunners.com/contact/\" rel=\"noopener\">Send a message</a> to the race director!</strong> 
END:VEVENT
END:VCALENDAR
