BEGIN:VCALENDAR
VERSION:2.0
PRODID:Imitheme.com 
BEGIN:VEVENT
UID:20260423T134607730909108
DTSTAMP;TZID=UTC:20260423T134607
DTSTART;TZID=UTC:20260423T134607
DTEND;TZID=UTC:20260423T134607
SUMMARY:Red\, White & Blue - 2.62 Mini-Marathon
LOCATION:
DESCRIPTION:<strong>Registration</strong> This is a free event! <strong>Race Information</strong> <b>Mini Marathon Distance\:</b> 2.62 Miles <b>Kids Mini Marathon Distance\:</b> .262 of a Mile (Kids age 12 and under) This will be held at Crystal Cove Park in South Sioux City\, NE. <strong>Questions? <a href=\"https\://www.missouririverrunners.com/contact/\" rel=\"noopener\">Send a message</a> to the race director!</strong>
END:VEVENT
END:VCALENDAR
